BEGIN:VCALENDAR
VERSION:2.0
PRODID:-//eventon.com NONSGML v1.0//EN
CALSCALE:GREGORIAN
METHOD:PUBLISH
BEGIN:VEVENT
UID:69e738a3eb232
DTSTAMP:20260421T084315Z
DTSTART:20240527
DTEND:20240528
LOCATION:
SUMMARY:Memorial Day!
DESCRIPTION:\nhttps://fdnsc.net/events/memorial-day/
URL:https://fdnsc.net/events/memorial-day/
END:VEVENT
END:VCALENDAR