BEGIN:VCALENDAR
VERSION:2.0
PRODID:-//eventon.com NONSGML v1.0//EN
CALSCALE:GREGORIAN
METHOD:PUBLISH
BEGIN:VEVENT
UID:69e963ae3b171
DTSTAMP:20260423T001126Z
DTSTART:20240509T220000Z
DTEND:20240510T000000Z
LOCATION:
SUMMARY:Spring Performance Gathering
DESCRIPTION:\nhttps://fdnsc.net/events/spring-performance-gathering/
URL:https://fdnsc.net/events/spring-performance-gathering/
END:VEVENT
END:VCALENDAR