BEGIN:VCALENDAR
VERSION:2.0
PRODID:-//eventon.com NONSGML v1.0//EN
CALSCALE:GREGORIAN
METHOD:PUBLISH
BEGIN:VEVENT
UID:69e7506b89772
DTSTAMP:20260421T102443Z
DTSTART:20231109
DTEND:20231110
LOCATION:
SUMMARY:Conference Day K-8
DESCRIPTION:\nhttps://fdnsc.net/events/conference-day-k-8-3/
URL:https://fdnsc.net/events/conference-day-k-8-3/
END:VEVENT
END:VCALENDAR