BEGIN:VCALENDAR
VERSION:2.0
PRODID:-//eventon.com NONSGML v1.0//EN
CALSCALE:GREGORIAN
METHOD:PUBLISH
BEGIN:VEVENT
UID:69e73bf1bac8a
DTSTAMP:20260421T085721Z
DTSTART:20230131
DTEND:20230201
LOCATION:
SUMMARY:Basketball Game (Away)
DESCRIPTION:\nhttps://fdnsc.net/events/basketball-game-away-4/
URL:https://fdnsc.net/events/basketball-game-away-4/
END:VEVENT
END:VCALENDAR