BEGIN:VCALENDAR
VERSION:2.0
PRODID:-//eventon.com NONSGML v1.0//EN
CALSCALE:GREGORIAN
METHOD:PUBLISH
BEGIN:VEVENT
UID:69e60568d41e9
DTSTAMP:20260420T105224Z
DTSTART:20221213
DTEND:20221214
LOCATION:
SUMMARY:Basketball Game (Away)
DESCRIPTION:\nhttps://fdnsc.net/events/basketball-game-away/
URL:https://fdnsc.net/events/basketball-game-away/
END:VEVENT
END:VCALENDAR